BEGIN:VCALENDAR
VERSION:2.0
PRODID:icalendar-ruby
CALSCALE:GREGORIAN
METHOD:PUBLISH
X-WR-CALNAME:Majestic Hoops Spring '26 Calendar
BEGIN:VTIMEZONE
TZID:America/Los_Angeles
BEGIN:DAYLIGHT
DTSTART:20250309T030000
TZOFFSETFROM:-0800
TZOFFSETTO:-0700
RRULE:FREQ=YEARLY;BYDAY=2SU;BYMONTH=3
TZNAME:PDT
END:DAYLIGHT
BEGIN:STANDARD
DTSTART:20251102T010000
TZOFFSETFROM:-0700
TZOFFSETTO:-0800
RRULE:FREQ=YEARLY;BYDAY=1SU;BYMONTH=11
TZNAME:PST
END:STANDARD
END:VTIMEZONE
BEGIN:VEVENT
DTSTAMP:20260424T054439Z
UID:game-107478451
DTSTART;TZID=America/Los_Angeles:20250608T170000
DTEND;TZID=America/Los_Angeles:20250608T180000
DESCRIPTION:Cone Work vs Skinny Jeanz @ Gunderson High School
LOCATION:Gunderson High School
SUMMARY:Cone Work vs Skinny Jeanz
URL;VALUE=URI:https://www.recleague.net/sites/majestichoops/games/107478451
END:VEVENT
BEGIN:VEVENT
DTSTAMP:20260424T054439Z
UID:game-108609051
DTSTART;TZID=America/Los_Angeles:20250622T160000
DTEND;TZID=America/Los_Angeles:20250622T170000
DESCRIPTION:Cone Work vs Campbell United
SUMMARY:Cone Work vs Campbell United
URL;VALUE=URI:https://www.recleague.net/sites/majestichoops/games/108609051
END:VEVENT
BEGIN:VEVENT
DTSTAMP:20260424T054439Z
UID:game-108609067
DTSTART;TZID=America/Los_Angeles:20250629T180000
DTEND;TZID=America/Los_Angeles:20250629T190000
DESCRIPTION:Cone Work vs Treez
SUMMARY:Cone Work vs Treez
URL;VALUE=URI:https://www.recleague.net/sites/majestichoops/games/108609067
END:VEVENT
BEGIN:VEVENT
DTSTAMP:20260424T054439Z
UID:game-109805342
DTSTART;TZID=America/Los_Angeles:20250622T230000
DTEND;TZID=America/Los_Angeles:20250623T000000
DESCRIPTION:Untouchaballs vs Cone Work @ Gunderson High School
LOCATION:Gunderson High School
SUMMARY:Untouchaballs vs Cone Work
URL;VALUE=URI:https://www.recleague.net/sites/majestichoops/games/109805342
END:VEVENT
BEGIN:VEVENT
DTSTAMP:20260424T054439Z
UID:game-111358769
DTSTART;TZID=America/Los_Angeles:20250713T180000
DTEND;TZID=America/Los_Angeles:20250713T190000
DESCRIPTION:Calabreezees vs Cone Work @ Gunderson High School
LOCATION:Gunderson High School
SUMMARY:Calabreezees vs Cone Work
URL;VALUE=URI:https://www.recleague.net/sites/majestichoops/games/111358769
END:VEVENT
BEGIN:VEVENT
DTSTAMP:20260424T054439Z
UID:game-112804170
DTSTART;TZID=America/Los_Angeles:20250720T170000
DTEND;TZID=America/Los_Angeles:20250720T180000
DESCRIPTION:Berksan vs Cone Work @ Gunderson High School
LOCATION:Gunderson High School
SUMMARY:Berksan vs Cone Work
URL;VALUE=URI:https://www.recleague.net/sites/majestichoops/games/112804170
END:VEVENT
BEGIN:VEVENT
DTSTAMP:20260424T054439Z
UID:game-113790848
DTSTART;TZID=America/Los_Angeles:20250727T200000
DTEND;TZID=America/Los_Angeles:20250727T210000
DESCRIPTION:Cone Work vs Campbell United
SUMMARY:Cone Work vs Campbell United
URL;VALUE=URI:https://www.recleague.net/sites/majestichoops/games/113790848
END:VEVENT
END:VCALENDAR
