BEGIN:VCALENDAR
VERSION:2.0
PRODID:icalendar-ruby
CALSCALE:GREGORIAN
METHOD:PUBLISH
X-WR-CALNAME:2018 Schedule Calendar
BEGIN:VTIMEZONE
TZID:America/New_York
BEGIN:DAYLIGHT
DTSTART:20250309T030000
TZOFFSETFROM:-0500
TZOFFSETTO:-0400
RRULE:FREQ=YEARLY;BYDAY=2SU;BYMONTH=3
TZNAME:EDT
END:DAYLIGHT
BEGIN:STANDARD
DTSTART:20251102T010000
TZOFFSETFROM:-0400
TZOFFSETTO:-0500
RRULE:FREQ=YEARLY;BYDAY=1SU;BYMONTH=11
TZNAME:EST
END:STANDARD
END:VTIMEZONE
BEGIN:VEVENT
DTSTAMP:20260424T043300Z
UID:game-115752328
DTSTART;TZID=America/New_York:20250809T000000
DTEND;TZID=America/New_York:20250809T010000
DESCRIPTION:Team 5 vs Atlanta
SUMMARY:Team 5 vs Atlanta
URL;VALUE=URI:https://www.recleague.net/sites/85578/games/115752328
END:VEVENT
BEGIN:VEVENT
DTSTAMP:20260424T043300Z
UID:game-115752344
DTSTART;TZID=America/New_York:20250810T000000
DTEND;TZID=America/New_York:20250810T010000
DESCRIPTION:Team 7 vs Atlanta
SUMMARY:Team 7 vs Atlanta
URL;VALUE=URI:https://www.recleague.net/sites/85578/games/115752344
END:VEVENT
BEGIN:VEVENT
DTSTAMP:20260424T043300Z
UID:game-115752360
DTSTART;TZID=America/New_York:20250811T000000
DTEND;TZID=America/New_York:20250811T010000
DESCRIPTION:Atlanta vs Team 9
SUMMARY:Atlanta vs Team 9
URL;VALUE=URI:https://www.recleague.net/sites/85578/games/115752360
END:VEVENT
BEGIN:VEVENT
DTSTAMP:20260424T043300Z
UID:game-115752376
DTSTART;TZID=America/New_York:20250812T000000
DTEND;TZID=America/New_York:20250812T010000
DESCRIPTION:Team 22 vs Atlanta
SUMMARY:Team 22 vs Atlanta
URL;VALUE=URI:https://www.recleague.net/sites/85578/games/115752376
END:VEVENT
BEGIN:VEVENT
DTSTAMP:20260424T043300Z
UID:game-115752392
DTSTART;TZID=America/New_York:20250813T000000
DTEND;TZID=America/New_York:20250813T010000
DESCRIPTION:Atlanta vs Team 20
SUMMARY:Atlanta vs Team 20
URL;VALUE=URI:https://www.recleague.net/sites/85578/games/115752392
END:VEVENT
BEGIN:VEVENT
DTSTAMP:20260424T043300Z
UID:game-115752407
DTSTART;TZID=America/New_York:20250814T230000
DTEND;TZID=America/New_York:20250815T000000
DESCRIPTION:Atlanta vs Team 19
SUMMARY:Atlanta vs Team 19
URL;VALUE=URI:https://www.recleague.net/sites/85578/games/115752407
END:VEVENT
BEGIN:VEVENT
DTSTAMP:20260424T043300Z
UID:game-115752421
DTSTART;TZID=America/New_York:20250815T210000
DTEND;TZID=America/New_York:20250815T220000
DESCRIPTION:Team 17 vs Atlanta
SUMMARY:Team 17 vs Atlanta
URL;VALUE=URI:https://www.recleague.net/sites/85578/games/115752421
END:VEVENT
BEGIN:VEVENT
DTSTAMP:20260424T043300Z
UID:game-115752435
DTSTART;TZID=America/New_York:20250816T190000
DTEND;TZID=America/New_York:20250816T200000
DESCRIPTION:Atlanta vs Team 15
SUMMARY:Atlanta vs Team 15
URL;VALUE=URI:https://www.recleague.net/sites/85578/games/115752435
END:VEVENT
BEGIN:VEVENT
DTSTAMP:20260424T043300Z
UID:game-115752449
DTSTART;TZID=America/New_York:20250817T170000
DTEND;TZID=America/New_York:20250817T180000
DESCRIPTION:Team 13 vs Atlanta
SUMMARY:Team 13 vs Atlanta
URL;VALUE=URI:https://www.recleague.net/sites/85578/games/115752449
END:VEVENT
BEGIN:VEVENT
DTSTAMP:20260424T043300Z
UID:game-115752463
DTSTART;TZID=America/New_York:20250818T150000
DTEND;TZID=America/New_York:20250818T160000
DESCRIPTION:Atlanta vs Team 11
SUMMARY:Atlanta vs Team 11
URL;VALUE=URI:https://www.recleague.net/sites/85578/games/115752463
END:VEVENT
BEGIN:VEVENT
DTSTAMP:20260424T043300Z
UID:game-115752477
DTSTART;TZID=America/New_York:20250819T130000
DTEND;TZID=America/New_York:20250819T140000
DESCRIPTION:Atlanta vs Team 24
SUMMARY:Atlanta vs Team 24
URL;VALUE=URI:https://www.recleague.net/sites/85578/games/115752477
END:VEVENT
BEGIN:VEVENT
DTSTAMP:20260424T043300Z
UID:game-115752507
DTSTART;TZID=America/New_York:20250820T030000
DTEND;TZID=America/New_York:20250820T040000
DESCRIPTION:Atlanta vs Team 26
SUMMARY:Atlanta vs Team 26
URL;VALUE=URI:https://www.recleague.net/sites/85578/games/115752507
END:VEVENT
BEGIN:VEVENT
DTSTAMP:20260424T043300Z
UID:game-115752521
DTSTART;TZID=America/New_York:20250821T010000
DTEND;TZID=America/New_York:20250821T020000
DESCRIPTION:Team 28 vs Atlanta
SUMMARY:Team 28 vs Atlanta
URL;VALUE=URI:https://www.recleague.net/sites/85578/games/115752521
END:VEVENT
BEGIN:VEVENT
DTSTAMP:20260424T043300Z
UID:game-115752549
DTSTART;TZID=America/New_York:20250823T210000
DTEND;TZID=America/New_York:20250823T220000
DESCRIPTION:Team 31 vs Atlanta
SUMMARY:Team 31 vs Atlanta
URL;VALUE=URI:https://www.recleague.net/sites/85578/games/115752549
END:VEVENT
BEGIN:VEVENT
DTSTAMP:20260424T043300Z
UID:game-115752577
DTSTART;TZID=America/New_York:20250825T170000
DTEND;TZID=America/New_York:20250825T180000
DESCRIPTION:Team 6 vs Atlanta
SUMMARY:Team 6 vs Atlanta
URL;VALUE=URI:https://www.recleague.net/sites/85578/games/115752577
END:VEVENT
BEGIN:VEVENT
DTSTAMP:20260424T043300Z
UID:game-115752591
DTSTART;TZID=America/New_York:20250826T150000
DTEND;TZID=America/New_York:20250826T160000
DESCRIPTION:Atlanta vs Team 8
SUMMARY:Atlanta vs Team 8
URL;VALUE=URI:https://www.recleague.net/sites/85578/games/115752591
END:VEVENT
BEGIN:VEVENT
DTSTAMP:20260424T043300Z
UID:game-115752605
DTSTART;TZID=America/New_York:20250827T130000
DTEND;TZID=America/New_York:20250827T140000
DESCRIPTION:Team 23 vs Atlanta
SUMMARY:Team 23 vs Atlanta
URL;VALUE=URI:https://www.recleague.net/sites/85578/games/115752605
END:VEVENT
BEGIN:VEVENT
DTSTAMP:20260424T043300Z
UID:game-115752635
DTSTART;TZID=America/New_York:20250828T030000
DTEND;TZID=America/New_York:20250828T040000
DESCRIPTION:Atlanta vs Team 21
SUMMARY:Atlanta vs Team 21
URL;VALUE=URI:https://www.recleague.net/sites/85578/games/115752635
END:VEVENT
BEGIN:VEVENT
DTSTAMP:20260424T043300Z
UID:game-115752649
DTSTART;TZID=America/New_York:20250829T010000
DTEND;TZID=America/New_York:20250829T020000
DESCRIPTION:Arizona Cardinals vs Atlanta
SUMMARY:Arizona Cardinals vs Atlanta
URL;VALUE=URI:https://www.recleague.net/sites/85578/games/115752649
END:VEVENT
BEGIN:VEVENT
DTSTAMP:20260424T043300Z
UID:game-115752665
DTSTART;TZID=America/New_York:20250830T010000
DTEND;TZID=America/New_York:20250830T020000
DESCRIPTION:Team 18 vs Atlanta
SUMMARY:Team 18 vs Atlanta
URL;VALUE=URI:https://www.recleague.net/sites/85578/games/115752665
END:VEVENT
BEGIN:VEVENT
DTSTAMP:20260424T043300Z
UID:game-115752681
DTSTART;TZID=America/New_York:20250831T010000
DTEND;TZID=America/New_York:20250831T020000
DESCRIPTION:Atlanta vs Team 16
SUMMARY:Atlanta vs Team 16
URL;VALUE=URI:https://www.recleague.net/sites/85578/games/115752681
END:VEVENT
BEGIN:VEVENT
DTSTAMP:20260424T043300Z
UID:game-115752697
DTSTART;TZID=America/New_York:20250901T010000
DTEND;TZID=America/New_York:20250901T020000
DESCRIPTION:Team 14 vs Atlanta
SUMMARY:Team 14 vs Atlanta
URL;VALUE=URI:https://www.recleague.net/sites/85578/games/115752697
END:VEVENT
BEGIN:VEVENT
DTSTAMP:20260424T043300Z
UID:game-115752713
DTSTART;TZID=America/New_York:20250902T010000
DTEND;TZID=America/New_York:20250902T020000
DESCRIPTION:Atlanta vs Team 12
SUMMARY:Atlanta vs Team 12
URL;VALUE=URI:https://www.recleague.net/sites/85578/games/115752713
END:VEVENT
BEGIN:VEVENT
DTSTAMP:20260424T043300Z
UID:game-115752729
DTSTART;TZID=America/New_York:20250903T010000
DTEND;TZID=America/New_York:20250903T020000
DESCRIPTION:Team 10 vs Atlanta
SUMMARY:Team 10 vs Atlanta
URL;VALUE=URI:https://www.recleague.net/sites/85578/games/115752729
END:VEVENT
BEGIN:VEVENT
DTSTAMP:20260424T043300Z
UID:game-115752745
DTSTART;TZID=America/New_York:20250904T010000
DTEND;TZID=America/New_York:20250904T020000
DESCRIPTION:Atlanta vs Team 25
SUMMARY:Atlanta vs Team 25
URL;VALUE=URI:https://www.recleague.net/sites/85578/games/115752745
END:VEVENT
BEGIN:VEVENT
DTSTAMP:20260424T043300Z
UID:game-115752761
DTSTART;TZID=America/New_York:20250905T010000
DTEND;TZID=America/New_York:20250905T020000
DESCRIPTION:Team 27 vs Atlanta
SUMMARY:Team 27 vs Atlanta
URL;VALUE=URI:https://www.recleague.net/sites/85578/games/115752761
END:VEVENT
BEGIN:VEVENT
DTSTAMP:20260424T043300Z
UID:game-115752777
DTSTART;TZID=America/New_York:20250906T010000
DTEND;TZID=America/New_York:20250906T020000
DESCRIPTION:Atlanta vs Team 29
SUMMARY:Atlanta vs Team 29
URL;VALUE=URI:https://www.recleague.net/sites/85578/games/115752777
END:VEVENT
BEGIN:VEVENT
DTSTAMP:20260424T043300Z
UID:game-115752793
DTSTART;TZID=America/New_York:20250907T010000
DTEND;TZID=America/New_York:20250907T020000
DESCRIPTION:Team 30 vs Atlanta
SUMMARY:Team 30 vs Atlanta
URL;VALUE=URI:https://www.recleague.net/sites/85578/games/115752793
END:VEVENT
BEGIN:VEVENT
DTSTAMP:20260424T043300Z
UID:game-115752809
DTSTART;TZID=America/New_York:20250908T010000
DTEND;TZID=America/New_York:20250908T020000
DESCRIPTION:Atlanta vs Team 32
SUMMARY:Atlanta vs Team 32
URL;VALUE=URI:https://www.recleague.net/sites/85578/games/115752809
END:VEVENT
END:VCALENDAR
