BEGIN:VCALENDAR
VERSION:2.0
PRODID:icalendar-ruby
CALSCALE:GREGORIAN
METHOD:PUBLISH
X-WR-CALNAME:Nba Calendar
BEGIN:VTIMEZONE
TZID:America/New_York
BEGIN:DAYLIGHT
DTSTART:20250309T030000
TZOFFSETFROM:-0500
TZOFFSETTO:-0400
RRULE:FREQ=YEARLY;BYDAY=2SU;BYMONTH=3
TZNAME:EDT
END:DAYLIGHT
BEGIN:STANDARD
DTSTART:20251102T010000
TZOFFSETFROM:-0400
TZOFFSETTO:-0500
RRULE:FREQ=YEARLY;BYDAY=1SU;BYMONTH=11
TZNAME:EST
END:STANDARD
END:VTIMEZONE
BEGIN:VEVENT
DTSTAMP:20260424T052115Z
UID:game-99882248
DTSTART;TZID=America/New_York:20250407T183500
DTEND;TZID=America/New_York:20250407T192300
DESCRIPTION:Team 1 vs Team 23 @ Court 1
LOCATION:Court 1
SUMMARY:Team 1 vs Team 23
URL;VALUE=URI:https://www.recleague.net/sites/nba-nba-20250407-nba-nba/game
 s/99882248
END:VEVENT
BEGIN:VEVENT
DTSTAMP:20260424T052115Z
UID:game-99882277
DTSTART;TZID=America/New_York:20250408T054700
DTEND;TZID=America/New_York:20250408T063500
DESCRIPTION:Team 24 vs Team 1 @ Court 1
LOCATION:Court 1
SUMMARY:Team 24 vs Team 1
URL;VALUE=URI:https://www.recleague.net/sites/nba-nba-20250407-nba-nba/game
 s/99882277
END:VEVENT
BEGIN:VEVENT
DTSTAMP:20260424T052115Z
UID:game-99882291
DTSTART;TZID=America/New_York:20250410T045900
DTEND;TZID=America/New_York:20250410T054700
DESCRIPTION:Team 1 vs Team 25 @ Court 1
LOCATION:Court 1
SUMMARY:Team 1 vs Team 25
URL;VALUE=URI:https://www.recleague.net/sites/nba-nba-20250407-nba-nba/game
 s/99882291
END:VEVENT
BEGIN:VEVENT
DTSTAMP:20260424T052115Z
UID:game-99882305
DTSTART;TZID=America/New_York:20250412T041100
DTEND;TZID=America/New_York:20250412T045900
DESCRIPTION:Team 26 vs Team 1 @ Court 1
LOCATION:Court 1
SUMMARY:Team 26 vs Team 1
URL;VALUE=URI:https://www.recleague.net/sites/nba-nba-20250407-nba-nba/game
 s/99882305
END:VEVENT
BEGIN:VEVENT
DTSTAMP:20260424T052115Z
UID:game-99882319
DTSTART;TZID=America/New_York:20250413T032300
DTEND;TZID=America/New_York:20250413T041100
DESCRIPTION:Team 1 vs Team 27 @ Court 1
LOCATION:Court 1
SUMMARY:Team 1 vs Team 27
URL;VALUE=URI:https://www.recleague.net/sites/nba-nba-20250407-nba-nba/game
 s/99882319
END:VEVENT
BEGIN:VEVENT
DTSTAMP:20260424T052115Z
UID:game-99882333
DTSTART;TZID=America/New_York:20250414T023500
DTEND;TZID=America/New_York:20250414T032300
DESCRIPTION:Team 28 vs Team 1 @ Court 1
LOCATION:Court 1
SUMMARY:Team 28 vs Team 1
URL;VALUE=URI:https://www.recleague.net/sites/nba-nba-20250407-nba-nba/game
 s/99882333
END:VEVENT
BEGIN:VEVENT
DTSTAMP:20260424T052115Z
UID:game-99882347
DTSTART;TZID=America/New_York:20250415T014700
DTEND;TZID=America/New_York:20250415T023500
DESCRIPTION:Team 1 vs Team 29 @ Court 1
LOCATION:Court 1
SUMMARY:Team 1 vs Team 29
URL;VALUE=URI:https://www.recleague.net/sites/nba-nba-20250407-nba-nba/game
 s/99882347
END:VEVENT
BEGIN:VEVENT
DTSTAMP:20260424T052115Z
UID:game-99882361
DTSTART;TZID=America/New_York:20250417T005900
DTEND;TZID=America/New_York:20250417T014700
DESCRIPTION:Team 3 vs Team 1 @ Court 1
LOCATION:Court 1
SUMMARY:Team 3 vs Team 1
URL;VALUE=URI:https://www.recleague.net/sites/nba-nba-20250407-nba-nba/game
 s/99882361
END:VEVENT
BEGIN:VEVENT
DTSTAMP:20260424T052115Z
UID:game-99882375
DTSTART;TZID=America/New_York:20250419T001100
DTEND;TZID=America/New_York:20250419T005900
DESCRIPTION:Team 1 vs Team 30 @ Court 1
LOCATION:Court 1
SUMMARY:Team 1 vs Team 30
URL;VALUE=URI:https://www.recleague.net/sites/nba-nba-20250407-nba-nba/game
 s/99882375
END:VEVENT
BEGIN:VEVENT
DTSTAMP:20260424T052115Z
UID:game-99882389
DTSTART;TZID=America/New_York:20250420T232300
DTEND;TZID=America/New_York:20250421T001100
DESCRIPTION:Team 4 vs Team 1 @ Court 1
LOCATION:Court 1
SUMMARY:Team 4 vs Team 1
URL;VALUE=URI:https://www.recleague.net/sites/nba-nba-20250407-nba-nba/game
 s/99882389
END:VEVENT
BEGIN:VEVENT
DTSTAMP:20260424T052115Z
UID:game-99882403
DTSTART;TZID=America/New_York:20250421T223500
DTEND;TZID=America/New_York:20250421T232300
DESCRIPTION:Team 1 vs Team 5 @ Court 1
LOCATION:Court 1
SUMMARY:Team 1 vs Team 5
URL;VALUE=URI:https://www.recleague.net/sites/nba-nba-20250407-nba-nba/game
 s/99882403
END:VEVENT
BEGIN:VEVENT
DTSTAMP:20260424T052115Z
UID:game-99882417
DTSTART;TZID=America/New_York:20250422T214700
DTEND;TZID=America/New_York:20250422T223500
DESCRIPTION:Team 6 vs Team 1 @ Court 1
LOCATION:Court 1
SUMMARY:Team 6 vs Team 1
URL;VALUE=URI:https://www.recleague.net/sites/nba-nba-20250407-nba-nba/game
 s/99882417
END:VEVENT
BEGIN:VEVENT
DTSTAMP:20260424T052115Z
UID:game-99882431
DTSTART;TZID=America/New_York:20250424T205900
DTEND;TZID=America/New_York:20250424T214700
DESCRIPTION:Team 1 vs Team 7 @ Court 1
LOCATION:Court 1
SUMMARY:Team 1 vs Team 7
URL;VALUE=URI:https://www.recleague.net/sites/nba-nba-20250407-nba-nba/game
 s/99882431
END:VEVENT
BEGIN:VEVENT
DTSTAMP:20260424T052115Z
UID:game-99882445
DTSTART;TZID=America/New_York:20250426T201100
DTEND;TZID=America/New_York:20250426T205900
DESCRIPTION:Team 8 vs Team 1 @ Court 1
LOCATION:Court 1
SUMMARY:Team 8 vs Team 1
URL;VALUE=URI:https://www.recleague.net/sites/nba-nba-20250407-nba-nba/game
 s/99882445
END:VEVENT
BEGIN:VEVENT
DTSTAMP:20260424T052115Z
UID:game-99882459
DTSTART;TZID=America/New_York:20250427T192300
DTEND;TZID=America/New_York:20250427T201100
DESCRIPTION:Team 1 vs Team 9 @ Court 1
LOCATION:Court 1
SUMMARY:Team 1 vs Team 9
URL;VALUE=URI:https://www.recleague.net/sites/nba-nba-20250407-nba-nba/game
 s/99882459
END:VEVENT
BEGIN:VEVENT
DTSTAMP:20260424T052115Z
UID:game-99882473
DTSTART;TZID=America/New_York:20250428T183500
DTEND;TZID=America/New_York:20250428T192300
DESCRIPTION:Team 22 vs Team 1 @ Court 1
LOCATION:Court 1
SUMMARY:Team 22 vs Team 1
URL;VALUE=URI:https://www.recleague.net/sites/nba-nba-20250407-nba-nba/game
 s/99882473
END:VEVENT
BEGIN:VEVENT
DTSTAMP:20260424T052115Z
UID:game-99882502
DTSTART;TZID=America/New_York:20250429T054700
DTEND;TZID=America/New_York:20250429T063500
DESCRIPTION:Team 1 vs Team 21 @ Court 1
LOCATION:Court 1
SUMMARY:Team 1 vs Team 21
URL;VALUE=URI:https://www.recleague.net/sites/nba-nba-20250407-nba-nba/game
 s/99882502
END:VEVENT
BEGIN:VEVENT
DTSTAMP:20260424T052115Z
UID:game-99882516
DTSTART;TZID=America/New_York:20250501T045900
DTEND;TZID=America/New_York:20250501T054700
DESCRIPTION:Team 20 vs Team 1 @ Court 1
LOCATION:Court 1
SUMMARY:Team 20 vs Team 1
URL;VALUE=URI:https://www.recleague.net/sites/nba-nba-20250407-nba-nba/game
 s/99882516
END:VEVENT
BEGIN:VEVENT
DTSTAMP:20260424T052115Z
UID:game-99882530
DTSTART;TZID=America/New_York:20250503T041100
DTEND;TZID=America/New_York:20250503T045900
DESCRIPTION:Team 1 vs Team 2 @ Court 1
LOCATION:Court 1
SUMMARY:Team 1 vs Team 2
URL;VALUE=URI:https://www.recleague.net/sites/nba-nba-20250407-nba-nba/game
 s/99882530
END:VEVENT
BEGIN:VEVENT
DTSTAMP:20260424T052115Z
UID:game-99882544
DTSTART;TZID=America/New_York:20250504T032300
DTEND;TZID=America/New_York:20250504T041100
DESCRIPTION:Team 19 vs Team 1 @ Court 1
LOCATION:Court 1
SUMMARY:Team 19 vs Team 1
URL;VALUE=URI:https://www.recleague.net/sites/nba-nba-20250407-nba-nba/game
 s/99882544
END:VEVENT
BEGIN:VEVENT
DTSTAMP:20260424T052115Z
UID:game-99882558
DTSTART;TZID=America/New_York:20250505T023500
DTEND;TZID=America/New_York:20250505T032300
DESCRIPTION:Team 1 vs Team 18 @ Court 1
LOCATION:Court 1
SUMMARY:Team 1 vs Team 18
URL;VALUE=URI:https://www.recleague.net/sites/nba-nba-20250407-nba-nba/game
 s/99882558
END:VEVENT
BEGIN:VEVENT
DTSTAMP:20260424T052115Z
UID:game-99882572
DTSTART;TZID=America/New_York:20250506T014700
DTEND;TZID=America/New_York:20250506T023500
DESCRIPTION:Team 17 vs Team 1 @ Court 1
LOCATION:Court 1
SUMMARY:Team 17 vs Team 1
URL;VALUE=URI:https://www.recleague.net/sites/nba-nba-20250407-nba-nba/game
 s/99882572
END:VEVENT
BEGIN:VEVENT
DTSTAMP:20260424T052115Z
UID:game-99882586
DTSTART;TZID=America/New_York:20250508T005900
DTEND;TZID=America/New_York:20250508T014700
DESCRIPTION:Team 1 vs Team 16 @ Court 1
LOCATION:Court 1
SUMMARY:Team 1 vs Team 16
URL;VALUE=URI:https://www.recleague.net/sites/nba-nba-20250407-nba-nba/game
 s/99882586
END:VEVENT
BEGIN:VEVENT
DTSTAMP:20260424T052115Z
UID:game-99882600
DTSTART;TZID=America/New_York:20250510T001100
DTEND;TZID=America/New_York:20250510T005900
DESCRIPTION:Team 15 vs Team 1 @ Court 1
LOCATION:Court 1
SUMMARY:Team 15 vs Team 1
URL;VALUE=URI:https://www.recleague.net/sites/nba-nba-20250407-nba-nba/game
 s/99882600
END:VEVENT
BEGIN:VEVENT
DTSTAMP:20260424T052115Z
UID:game-99882614
DTSTART;TZID=America/New_York:20250511T232300
DTEND;TZID=America/New_York:20250512T001100
DESCRIPTION:Team 1 vs Team 14 @ Court 1
LOCATION:Court 1
SUMMARY:Team 1 vs Team 14
URL;VALUE=URI:https://www.recleague.net/sites/nba-nba-20250407-nba-nba/game
 s/99882614
END:VEVENT
BEGIN:VEVENT
DTSTAMP:20260424T052115Z
UID:game-99882628
DTSTART;TZID=America/New_York:20250512T223500
DTEND;TZID=America/New_York:20250512T232300
DESCRIPTION:Team 13 vs Team 1 @ Court 1
LOCATION:Court 1
SUMMARY:Team 13 vs Team 1
URL;VALUE=URI:https://www.recleague.net/sites/nba-nba-20250407-nba-nba/game
 s/99882628
END:VEVENT
BEGIN:VEVENT
DTSTAMP:20260424T052115Z
UID:game-99882642
DTSTART;TZID=America/New_York:20250513T214700
DTEND;TZID=America/New_York:20250513T223500
DESCRIPTION:Team 1 vs Team 12 @ Court 1
LOCATION:Court 1
SUMMARY:Team 1 vs Team 12
URL;VALUE=URI:https://www.recleague.net/sites/nba-nba-20250407-nba-nba/game
 s/99882642
END:VEVENT
BEGIN:VEVENT
DTSTAMP:20260424T052115Z
UID:game-99882656
DTSTART;TZID=America/New_York:20250515T205900
DTEND;TZID=America/New_York:20250515T214700
DESCRIPTION:Team 11 vs Team 1 @ Court 1
LOCATION:Court 1
SUMMARY:Team 11 vs Team 1
URL;VALUE=URI:https://www.recleague.net/sites/nba-nba-20250407-nba-nba/game
 s/99882656
END:VEVENT
BEGIN:VEVENT
DTSTAMP:20260424T052115Z
UID:game-99882670
DTSTART;TZID=America/New_York:20250517T201100
DTEND;TZID=America/New_York:20250517T205900
DESCRIPTION:Team 1 vs Team 10 @ Court 1
LOCATION:Court 1
SUMMARY:Team 1 vs Team 10
URL;VALUE=URI:https://www.recleague.net/sites/nba-nba-20250407-nba-nba/game
 s/99882670
END:VEVENT
END:VCALENDAR
