BEGIN:VCALENDAR
VERSION:2.0
PRODID:icalendar-ruby
CALSCALE:GREGORIAN
METHOD:PUBLISH
X-WR-CALNAME:Prinz League Calendar
BEGIN:VTIMEZONE
TZID:America/New_York
BEGIN:DAYLIGHT
DTSTART:20230312T030000
TZOFFSETFROM:-0500
TZOFFSETTO:-0400
RRULE:FREQ=YEARLY;BYDAY=2SU;BYMONTH=3
TZNAME:EDT
END:DAYLIGHT
BEGIN:STANDARD
DTSTART:20231105T010000
TZOFFSETFROM:-0400
TZOFFSETTO:-0500
RRULE:FREQ=YEARLY;BYDAY=1SU;BYMONTH=11
TZNAME:EST
END:STANDARD
END:VTIMEZONE
BEGIN:VEVENT
DTSTAMP:20260424T102222Z
UID:game-22773172
DTSTART;TZID=America/New_York:20230403T210000
DTEND;TZID=America/New_York:20230329T213000
DESCRIPTION:Santo Domingo vs Bayamón
SUMMARY:Santo Domingo vs Bayamón
URL;VALUE=URI:https://www.recleague.net/sites/prinzleagueseason2/games/2277
 3172
END:VEVENT
BEGIN:VEVENT
DTSTAMP:20260424T102222Z
UID:game-22773180
DTSTART;TZID=America/New_York:20230401T220000
DTEND;TZID=America/New_York:20230328T223000
DESCRIPTION:Santo Domingo vs San Juan
SUMMARY:Santo Domingo vs San Juan
URL;VALUE=URI:https://www.recleague.net/sites/prinzleagueseason2/games/2277
 3180
END:VEVENT
BEGIN:VEVENT
DTSTAMP:20260424T102222Z
UID:game-22773185
DTSTART;TZID=America/New_York:20230330T210000
DTEND;TZID=America/New_York:20230328T223000
DESCRIPTION:Santo Domingo vs Ponce
SUMMARY:Santo Domingo vs Ponce
URL;VALUE=URI:https://www.recleague.net/sites/prinzleagueseason2/games/2277
 3185
END:VEVENT
BEGIN:VEVENT
DTSTAMP:20260424T102222Z
UID:game-22773190
DTSTART;TZID=America/New_York:20230416T143000
DTEND;TZID=America/New_York:20230329T150000
DESCRIPTION:Santurce vs Santo Domingo
SUMMARY:Santurce vs Santo Domingo
URL;VALUE=URI:https://www.recleague.net/sites/prinzleagueseason2/games/2277
 3190
END:VEVENT
BEGIN:VEVENT
DTSTAMP:20260424T102222Z
UID:game-22773195
DTSTART;TZID=America/New_York:20230330T213000
DTEND;TZID=America/New_York:20230329T220000
DESCRIPTION:Santo Domingo vs La Vega
SUMMARY:Santo Domingo vs La Vega
URL;VALUE=URI:https://www.recleague.net/sites/prinzleagueseason2/games/2277
 3195
END:VEVENT
BEGIN:VEVENT
DTSTAMP:20260424T102222Z
UID:game-22773200
DTSTART;TZID=America/New_York:20230330T220000
DTEND;TZID=America/New_York:20230329T223000
DESCRIPTION:Santo Domingo vs San Pedro
SUMMARY:Santo Domingo vs San Pedro
URL;VALUE=URI:https://www.recleague.net/sites/prinzleagueseason2/games/2277
 3200
END:VEVENT
BEGIN:VEVENT
DTSTAMP:20260424T102222Z
UID:game-22773204
DTSTART;TZID=America/New_York:20230416T140000
DTEND;TZID=America/New_York:20230330T143000
DESCRIPTION:Santiago vs Santo Domingo
SUMMARY:Santiago vs Santo Domingo
URL;VALUE=URI:https://www.recleague.net/sites/prinzleagueseason2/games/2277
 3204
END:VEVENT
BEGIN:VEVENT
DTSTAMP:20260424T102222Z
UID:game-22773207
DTSTART;TZID=America/New_York:20230416T114500
DTEND;TZID=America/New_York:20230330T121500
DESCRIPTION:Santo Domingo vs Puerto Plata
SUMMARY:Santo Domingo vs Puerto Plata
URL;VALUE=URI:https://www.recleague.net/sites/prinzleagueseason2/games/2277
 3207
END:VEVENT
BEGIN:VEVENT
DTSTAMP:20260424T102222Z
UID:game-22773215
DTSTART;TZID=America/New_York:20230416T111500
DTEND;TZID=America/New_York:20230330T114500
DESCRIPTION:Carolina vs Santo Domingo
SUMMARY:Carolina vs Santo Domingo
URL;VALUE=URI:https://www.recleague.net/sites/prinzleagueseason2/games/2277
 3215
END:VEVENT
BEGIN:VEVENT
DTSTAMP:20260424T102222Z
UID:game-22773217
DTSTART;TZID=America/New_York:20230416T151500
DTEND;TZID=America/New_York:20230331T154500
DESCRIPTION:Bayamón vs Santo Domingo
SUMMARY:Bayamón vs Santo Domingo
URL;VALUE=URI:https://www.recleague.net/sites/prinzleagueseason2/games/2277
 3217
END:VEVENT
BEGIN:VEVENT
DTSTAMP:20260424T102222Z
UID:game-22773225
DTSTART;TZID=America/New_York:20230401T210000
DTEND;TZID=America/New_York:20230401T213000
DESCRIPTION:Santo Domingo vs San Juan
SUMMARY:Santo Domingo vs San Juan
URL;VALUE=URI:https://www.recleague.net/sites/prinzleagueseason2/games/2277
 3225
END:VEVENT
BEGIN:VEVENT
DTSTAMP:20260424T102222Z
UID:game-22773230
DTSTART;TZID=America/New_York:20230416T111500
DTEND;TZID=America/New_York:20230331T114500
DESCRIPTION:Santo Domingo vs Ponce
SUMMARY:Santo Domingo vs Ponce
URL;VALUE=URI:https://www.recleague.net/sites/prinzleagueseason2/games/2277
 3230
END:VEVENT
BEGIN:VEVENT
DTSTAMP:20260424T102222Z
UID:game-22773235
DTSTART;TZID=America/New_York:20230416T120000
DTEND;TZID=America/New_York:20230404T123000
DESCRIPTION:Santurce vs Santo Domingo
SUMMARY:Santurce vs Santo Domingo
URL;VALUE=URI:https://www.recleague.net/sites/prinzleagueseason2/games/2277
 3235
END:VEVENT
BEGIN:VEVENT
DTSTAMP:20260424T102222Z
UID:game-22773240
DTSTART;TZID=America/New_York:20230330T220000
DTEND;TZID=America/New_York:20230404T220000
DESCRIPTION:La Vega vs Santo Domingo
SUMMARY:La Vega vs Santo Domingo
URL;VALUE=URI:https://www.recleague.net/sites/prinzleagueseason2/games/2277
 3240
END:VEVENT
BEGIN:VEVENT
DTSTAMP:20260424T102222Z
UID:game-22773245
DTSTART;TZID=America/New_York:20230416T104500
DTEND;TZID=America/New_York:20230404T111500
DESCRIPTION:San Pedro vs Santo Domingo
SUMMARY:San Pedro vs Santo Domingo
URL;VALUE=URI:https://www.recleague.net/sites/prinzleagueseason2/games/2277
 3245
END:VEVENT
BEGIN:VEVENT
DTSTAMP:20260424T102222Z
UID:game-22773249
DTSTART;TZID=America/New_York:20230416T134500
DTEND;TZID=America/New_York:20230405T141500
DESCRIPTION:Santiago vs Santo Domingo
SUMMARY:Santiago vs Santo Domingo
URL;VALUE=URI:https://www.recleague.net/sites/prinzleagueseason2/games/2277
 3249
END:VEVENT
BEGIN:VEVENT
DTSTAMP:20260424T102222Z
UID:game-22773252
DTSTART;TZID=America/New_York:20230416T113000
DTEND;TZID=America/New_York:20230405T120000
DESCRIPTION:Santo Domingo vs Puerto Plata
SUMMARY:Santo Domingo vs Puerto Plata
URL;VALUE=URI:https://www.recleague.net/sites/prinzleagueseason2/games/2277
 3252
END:VEVENT
BEGIN:VEVENT
DTSTAMP:20260424T102222Z
UID:game-22773260
DTSTART;TZID=America/New_York:20230416T104500
DTEND;TZID=America/New_York:20230405T111500
DESCRIPTION:Carolina vs Santo Domingo
SUMMARY:Carolina vs Santo Domingo
URL;VALUE=URI:https://www.recleague.net/sites/prinzleagueseason2/games/2277
 3260
END:VEVENT
BEGIN:VEVENT
DTSTAMP:20260424T102222Z
UID:game-22773262
DTSTART;TZID=America/New_York:20230403T213000
DTEND;TZID=America/New_York:20230403T220000
DESCRIPTION:Santo Domingo vs Bayamón
SUMMARY:Santo Domingo vs Bayamón
URL;VALUE=URI:https://www.recleague.net/sites/prinzleagueseason2/games/2277
 3262
END:VEVENT
BEGIN:VEVENT
DTSTAMP:20260424T102222Z
UID:game-22773270
DTSTART;TZID=America/New_York:20230416T120000
DTEND;TZID=America/New_York:20230406T123000
DESCRIPTION:Santo Domingo vs San Juan
SUMMARY:Santo Domingo vs San Juan
URL;VALUE=URI:https://www.recleague.net/sites/prinzleagueseason2/games/2277
 3270
END:VEVENT
BEGIN:VEVENT
DTSTAMP:20260424T102222Z
UID:game-22773275
DTSTART;TZID=America/New_York:20230416T110000
DTEND;TZID=America/New_York:20230406T113000
DESCRIPTION:Santo Domingo vs Ponce
SUMMARY:Santo Domingo vs Ponce
URL;VALUE=URI:https://www.recleague.net/sites/prinzleagueseason2/games/2277
 3275
END:VEVENT
BEGIN:VEVENT
DTSTAMP:20260424T102222Z
UID:game-22773280
DTSTART;TZID=America/New_York:20230416T123000
DTEND;TZID=America/New_York:20230407T130000
DESCRIPTION:Santurce vs Santo Domingo
SUMMARY:Santurce vs Santo Domingo
URL;VALUE=URI:https://www.recleague.net/sites/prinzleagueseason2/games/2277
 3280
END:VEVENT
BEGIN:VEVENT
DTSTAMP:20260424T102222Z
UID:game-22773285
DTSTART;TZID=America/New_York:20230416T123000
DTEND;TZID=America/New_York:20230407T130000
DESCRIPTION:Santo Domingo vs La Vega
SUMMARY:Santo Domingo vs La Vega
URL;VALUE=URI:https://www.recleague.net/sites/prinzleagueseason2/games/2277
 3285
END:VEVENT
BEGIN:VEVENT
DTSTAMP:20260424T102222Z
UID:game-22773290
DTSTART;TZID=America/New_York:20230416T111500
DTEND;TZID=America/New_York:20230407T114500
DESCRIPTION:San Pedro vs Santo Domingo
SUMMARY:San Pedro vs Santo Domingo
URL;VALUE=URI:https://www.recleague.net/sites/prinzleagueseason2/games/2277
 3290
END:VEVENT
BEGIN:VEVENT
DTSTAMP:20260424T102222Z
UID:game-22773294
DTSTART;TZID=America/New_York:20230416T064500
DTEND;TZID=America/New_York:20230411T071500
DESCRIPTION:Santiago vs Santo Domingo
SUMMARY:Santiago vs Santo Domingo
URL;VALUE=URI:https://www.recleague.net/sites/prinzleagueseason2/games/2277
 3294
END:VEVENT
BEGIN:VEVENT
DTSTAMP:20260424T102222Z
UID:game-22773297
DTSTART;TZID=America/New_York:20230416T120000
DTEND;TZID=America/New_York:20230411T123000
DESCRIPTION:Santo Domingo vs Puerto Plata
SUMMARY:Santo Domingo vs Puerto Plata
URL;VALUE=URI:https://www.recleague.net/sites/prinzleagueseason2/games/2277
 3297
END:VEVENT
BEGIN:VEVENT
DTSTAMP:20260424T102222Z
UID:game-22773305
DTSTART;TZID=America/New_York:20230416T104500
DTEND;TZID=America/New_York:20230411T111500
DESCRIPTION:Carolina vs Santo Domingo
SUMMARY:Carolina vs Santo Domingo
URL;VALUE=URI:https://www.recleague.net/sites/prinzleagueseason2/games/2277
 3305
END:VEVENT
BEGIN:VEVENT
DTSTAMP:20260424T102222Z
UID:game-24791576
DTSTART;TZID=America/New_York:20230420T210000
DTEND;TZID=America/New_York:20230420T220000
DESCRIPTION:Santo Domingo vs San Juan
SUMMARY:Santo Domingo vs San Juan
URL;VALUE=URI:https://www.recleague.net/sites/prinzleagueseason2/games/2479
 1576
END:VEVENT
END:VCALENDAR
