BEGIN:VCALENDAR
VERSION:2.0
PRODID:icalendar-ruby
CALSCALE:GREGORIAN
METHOD:PUBLISH
X-WR-CALNAME:Women's Varsity League Calendar
BEGIN:VTIMEZONE
TZID:America/Denver
BEGIN:DAYLIGHT
DTSTART:20160313T030000
TZOFFSETFROM:-0700
TZOFFSETTO:-0600
RRULE:FREQ=YEARLY;BYDAY=2SU;BYMONTH=3
TZNAME:MDT
END:DAYLIGHT
BEGIN:STANDARD
DTSTART:20151101T010000
TZOFFSETFROM:-0600
TZOFFSETTO:-0700
RRULE:FREQ=YEARLY;BYDAY=1SU;BYMONTH=11
TZNAME:MST
END:STANDARD
END:VTIMEZONE
BEGIN:VEVENT
DTSTAMP:20260424T053722Z
UID:game-14414
DTSTART;TZID=America/Denver:20160112T195000
DTEND;TZID=America/Denver:20160112T205000
DESCRIPTION:Carri vs Julieanne @ Rec Center
LOCATION:Rec Center
SUMMARY:Carri vs Julieanne
URL;VALUE=URI:https://www.recleague.net/sites/dccswv/games/14414
END:VEVENT
BEGIN:VEVENT
DTSTAMP:20260424T053722Z
UID:game-14434
DTSTART;TZID=America/Denver:20160126T211000
DTEND;TZID=America/Denver:20160126T221000
DESCRIPTION:Carri vs Wendy @ Rec Center
LOCATION:Rec Center
SUMMARY:Carri vs Wendy
URL;VALUE=URI:https://www.recleague.net/sites/dccswv/games/14434
END:VEVENT
BEGIN:VEVENT
DTSTAMP:20260424T053722Z
UID:game-14933
DTSTART;TZID=America/Denver:20160209T183000
DTEND;TZID=America/Denver:20160209T193000
DESCRIPTION:Hannah vs Carri @ Rec Center
LOCATION:Rec Center
SUMMARY:Hannah vs Carri
URL;VALUE=URI:https://www.recleague.net/sites/dccswv/games/14933
END:VEVENT
BEGIN:VEVENT
DTSTAMP:20260424T053722Z
UID:game-14936
DTSTART;TZID=America/Denver:20160223T183000
DTEND;TZID=America/Denver:20160223T193000
DESCRIPTION:Elly vs Carri @ Rec Center
LOCATION:Rec Center
SUMMARY:Elly vs Carri
URL;VALUE=URI:https://www.recleague.net/sites/dccswv/games/14936
END:VEVENT
BEGIN:VEVENT
DTSTAMP:20260424T053722Z
UID:game-14941
DTSTART;TZID=America/Denver:20160308T211500
DTEND;TZID=America/Denver:20160308T221500
DESCRIPTION:Carri vs Mary @ Rec Center
LOCATION:Rec Center
SUMMARY:Carri vs Mary
URL;VALUE=URI:https://www.recleague.net/sites/dccswv/games/14941
END:VEVENT
BEGIN:VEVENT
DTSTAMP:20260424T053722Z
UID:game-14942
DTSTART;TZID=America/Denver:20160315T183000
DTEND;TZID=America/Denver:20160315T193000
DESCRIPTION:Carri vs Wendy @ Rec Center
LOCATION:Rec Center
SUMMARY:Carri vs Wendy
URL;VALUE=URI:https://www.recleague.net/sites/dccswv/games/14942
END:VEVENT
BEGIN:VEVENT
DTSTAMP:20260424T053722Z
UID:game-14947
DTSTART;TZID=America/Denver:20160322T211500
DTEND;TZID=America/Denver:20160322T221500
DESCRIPTION:Carri vs Mary @ Rec Center
LOCATION:Rec Center
SUMMARY:Carri vs Mary
URL;VALUE=URI:https://www.recleague.net/sites/dccswv/games/14947
END:VEVENT
BEGIN:VEVENT
DTSTAMP:20260424T053722Z
UID:game-14949
DTSTART;TZID=America/Denver:20160329T194500
DTEND;TZID=America/Denver:20160329T204500
DESCRIPTION:Elly vs Carri @ Rec Center
LOCATION:Rec Center
SUMMARY:Elly vs Carri
URL;VALUE=URI:https://www.recleague.net/sites/dccswv/games/14949
END:VEVENT
BEGIN:VEVENT
DTSTAMP:20260424T053722Z
UID:game-16755
DTSTART;TZID=America/Denver:20160406T203000
DTEND;TZID=America/Denver:20160406T213000
DESCRIPTION:Carri vs Wendy @ Rec Center
LOCATION:Rec Center
SUMMARY:Carri vs Wendy
URL;VALUE=URI:https://www.recleague.net/sites/dccswv/games/16755
END:VEVENT
BEGIN:VEVENT
DTSTAMP:20260424T053722Z
UID:game-16951
DTSTART;TZID=America/Denver:20160413T190000
DTEND;TZID=America/Denver:20160413T200000
DESCRIPTION:Carri vs Mary @ Rec Center
LOCATION:Rec Center
SUMMARY:Carri vs Mary
URL;VALUE=URI:https://www.recleague.net/sites/dccswv/games/16951
END:VEVENT
BEGIN:VEVENT
DTSTAMP:20260424T053722Z
UID:game-17049
DTSTART;TZID=America/Denver:20160420T070000
DTEND;TZID=America/Denver:20160420T080000
DESCRIPTION:Carri vs Wendy @ Rec Center
LOCATION:Rec Center
SUMMARY:Carri vs Wendy
URL;VALUE=URI:https://www.recleague.net/sites/dccswv/games/17049
END:VEVENT
BEGIN:VEVENT
DTSTAMP:20260424T053722Z
UID:game-17301
DTSTART;TZID=America/Denver:20160427T190000
DTEND;TZID=America/Denver:20160427T200000
DESCRIPTION:Mary vs Carri @ Rec Center
LOCATION:Rec Center
SUMMARY:Mary vs Carri
URL;VALUE=URI:https://www.recleague.net/sites/dccswv/games/17301
END:VEVENT
END:VCALENDAR
