BEGIN:VCALENDAR
VERSION:2.0
PRODID:icalendar-ruby
CALSCALE:GREGORIAN
METHOD:PUBLISH
X-WR-CALNAME:Madness Field 籃球四角賽 Calendar
BEGIN:VTIMEZONE
TZID:Asia/Hong_Kong
BEGIN:STANDARD
DTSTART:19791021T023000
TZOFFSETFROM:+0900
TZOFFSETTO:+0800
TZNAME:HKT
END:STANDARD
END:VTIMEZONE
BEGIN:VEVENT
DTSTAMP:20260424T065553Z
UID:game-11757
DTSTART;TZID=Asia/Hong_Kong:20150905T100000
DTEND;TZID=Asia/Hong_Kong:20150905T110000
DESCRIPTION:Insane vs TTR @ 調景嶺體育館
LOCATION:調景嶺體育館
SUMMARY:Insane vs TTR
URL;VALUE=URI:https://www.recleague.net/sites/madfield/games/11757
END:VEVENT
BEGIN:VEVENT
DTSTAMP:20260424T065553Z
UID:game-11763
DTSTART;TZID=Asia/Hong_Kong:20150919T100000
DTEND;TZID=Asia/Hong_Kong:20150919T110000
DESCRIPTION:Insane vs DSF @ 調景嶺體育館
LOCATION:調景嶺體育館
SUMMARY:Insane vs DSF
URL;VALUE=URI:https://www.recleague.net/sites/madfield/games/11763
END:VEVENT
BEGIN:VEVENT
DTSTAMP:20260424T065553Z
UID:game-12511
DTSTART;TZID=Asia/Hong_Kong:20151024T110000
DTEND;TZID=Asia/Hong_Kong:20151024T120000
DESCRIPTION:Insane vs 駿業體育會 @ 紅磡巿政大廈體育館
LOCATION:紅磡巿政大廈體育館
SUMMARY:Insane vs 駿業體育會
URL;VALUE=URI:https://www.recleague.net/sites/madfield/games/12511
END:VEVENT
END:VCALENDAR
